BEGIN:VCALENDAR
VERSION:2.0
PRODID:-//Blend Candle Co. - ECPv6.15.20//NONSGML v1.0//EN
CALSCALE:GREGORIAN
METHOD:PUBLISH
X-WR-CALNAME:Blend Candle Co.
X-ORIGINAL-URL:https://blendcandleco.com
X-WR-CALDESC:Events for Blend Candle Co.
REFRESH-INTERVAL;VALUE=DURATION:PT1H
X-Robots-Tag:noindex
X-PUBLISHED-TTL:PT1H
BEGIN:VTIMEZONE
TZID:America/Halifax
BEGIN:DAYLIGHT
TZOFFSETFROM:-0400
TZOFFSETTO:-0300
TZNAME:ADT
DTSTART:20240310T060000
END:DAYLIGHT
BEGIN:STANDARD
TZOFFSETFROM:-0300
TZOFFSETTO:-0400
TZNAME:AST
DTSTART:20241103T050000
END:STANDARD
BEGIN:DAYLIGHT
TZOFFSETFROM:-0400
TZOFFSETTO:-0300
TZNAME:ADT
DTSTART:20250309T060000
END:DAYLIGHT
BEGIN:STANDARD
TZOFFSETFROM:-0300
TZOFFSETTO:-0400
TZNAME:AST
DTSTART:20251102T050000
END:STANDARD
BEGIN:DAYLIGHT
TZOFFSETFROM:-0400
TZOFFSETTO:-0300
TZNAME:ADT
DTSTART:20260308T060000
END:DAYLIGHT
BEGIN:STANDARD
TZOFFSETFROM:-0300
TZOFFSETTO:-0400
TZNAME:AST
DTSTART:20261101T050000
END:STANDARD
END:VTIMEZONE
BEGIN:VEVENT
DTSTART;TZID=America/Halifax:20250907T120000
DTEND;TZID=America/Halifax:20250907T170000
DTSTAMP:20260421T215817
CREATED:20250825T204939Z
LAST-MODIFIED:20250825T225151Z
UID:1408-1757246400-1757264400@blendcandleco.com
SUMMARY:Fall Into September: Sips\, Scents & Stems 12-5P
DESCRIPTION:🍂 Fall Into Fun with Blend Candle Co. & Sassafraz Flowers! 🌸🕯️ \nCelebrate the season with a cozy\, creative afternoon hosted by Denise from Blend Candle Co. and Deanna from Sassafraz Flowers on Sunday\, September 7th\, from 12–5 PM. \n✨ What���s Included: \n\nChoose your favorite blooms and design a custom bouquet at our stunning Bloom Bar — cut and wrapped by Sassafraz Flowers\nBlend your own signature scent choosing from our 50+  non-toxic fragrance collection\, including fall favorites like Pumpkin Spice\, Masala Chai\, Salted Maple Whip\, Fall Leaves\, Apple Orchard\,  along with fresh\, beachy\, floral and everything in between — poured into our signature 17oz amber glass vessel with lid.\nEnjoy complimentary mimosas or sparkling wine while you create\n\n🎟️ Special Offer:\n$60 per guest (regularly $80) — Reserve now for the best price! \nClick here to reserve your spot! \nWalk-ins are always welcome! \n🍁 Welcome fall with beautiful fragrances\, bold colors\, and fun vibes! See you soon! 16 E Main St Westerville\, Oh 43081 \nFollow us on IG or FB @blendcandleco \n  \n 
URL:https://blendcandleco.com/event/fall-into-september-bubbles-blooms-blends-12-5p/
END:VEVENT
BEGIN:VEVENT
DTSTART;TZID=America/Halifax:20250817T120000
DTEND;TZID=America/Halifax:20250817T170000
DTSTAMP:20260421T215817
CREATED:20250812T163346Z
LAST-MODIFIED:20250812T163346Z
UID:1395-1755432000-1755450000@blendcandleco.com
SUMMARY:FLOWER BAR POP UP 8/17
DESCRIPTION:🌸 POP-UP FLOWER BAR 🌸\nSunday\, Aug 17\n🕛 12–5 PM \nPop in\, pick your faves 💐\nSassafraz Flowers will wrap them pretty ✨ \nPriced per stem\, and complimentary greenery! \n🥂 Complimentary mimosas\n👃 Always good smells\n💖 Chill studio vibes \nSIP\, SMELL\, CREATE YOUR OWN BOUQUET OR CANDLE\, SCRUB\, SOAP\, PERFUME \nWALK INS WELCOME
URL:https://blendcandleco.com/event/flower-bar-pop-up-8-17/
END:VEVENT
BEGIN:VEVENT
DTSTART;TZID=America/Halifax:20250806T173000
DTEND;TZID=America/Halifax:20250806T193000
DTSTAMP:20260421T215817
CREATED:20250718T131110Z
LAST-MODIFIED:20250718T131110Z
UID:1373-1754501400-1754508600@blendcandleco.com
SUMMARY:Blend and Mix Event - Blend Candle Co and Asterisk on  August 6th 5:30pm
DESCRIPTION:an evening of cocktails\, scents and connections\n\n\nAugust 6th 5:30pm- 7:30pm (doors open at 5pm)\n\nJoin us for an evening of flavor\, aroma\, and lots of networking! In partnership with Blend Candle Co. and Asterisk Supper Club\, the Westerville Area Chamber’s Women in Business network is proud to present Blend & Mix – come out to make connections and a custom candle over Asterisk’s signature cocktails!\n\nArrive to Blend Candle Co.\, 16 E. Main Street at 5:30PM for instructions!\n\n$45 members\n$55 potential members\n\n\nRegister HERE
URL:https://blendcandleco.com/event/blend-and-mix-event-blend-candle-co-and-asterisk-on-august-6th-530pm/
END:VEVENT
BEGIN:VEVENT
DTSTART;VALUE=DATE:20250802
DTEND;VALUE=DATE:20250804
DTSTAMP:20260421T215817
CREATED:20250729T130752Z
LAST-MODIFIED:20250729T130913Z
UID:1379-1754092800-1754265599@blendcandleco.com
SUMMARY:summer flower bar pop up 8/2 and 8/3 - blooms\, scents and sips
DESCRIPTION:🌸 Stop and Smell the Flowers 🌸\nSummer Flower Bar Pop-Up at Blend Candle Co\nAugust 2 | 1–6 PM\nAugust 3 | 12–5 PM \nGrab your flower-loving friends and swing by for a bloomin’ good time! We’re teaming up with Sassafras Flowers  to bring you the ultimate bouquet + candle bar experience. \n✨ Build your own bouquet- gorgeous summer blooms along with some tropical faves\n✨ Create a custom signature scent while you’re in\n✨ Sip complimentary Prosecco & wine\n✨ Sniff\, mingle\, and soak up the summer vibes \nWhether you’re a floral fanatic or just here for the fizz\, it’s the perfect excuse to play with petals and create a custom perfume and more! \nNo RSVP needed—just pop in\, pour up\, and let the creativity bloom! 🌿🥂💐
URL:https://blendcandleco.com/event/summer-flower-bar-pop-up-8-2-and-8-3-blooms-scents-and-sips/
END:VEVENT
BEGIN:VEVENT
DTSTART;TZID=America/Halifax:20250721T173000
DTEND;TZID=America/Halifax:20250721T220000
DTSTAMP:20260421T215817
CREATED:20250630T183006Z
LAST-MODIFIED:20250630T185440Z
UID:1275-1753119000-1753135200@blendcandleco.com
SUMMARY:Sip & Scents: Candle Making Class July 21st
DESCRIPTION:Escape for an lovely summer evening at P.O. BOX XXI\, the newest speakeasy tucked below High Bank Distillery in Uptown Westerville\, with an exclusive candle making class + cocktail! \nOn Monday\, July 21st\, join High Bank Distillery and Blend Candle Co for a hands on personalized candle making workshop. An unforgettable summer night in the speakeasy — where you create your signature scent while sipping on handcrafted cocktails  in style. \n  \nCLASS ONE:  5:30-7PM \nCLASS TWO: 8-9:30PM \nTICKET INCLUDES: \n-Welcome cocktail \n-Blending your own custom 10 oz soy coconut wax candle using  non toxic fragrance in a reusable rocks drinking glass \n-Light snacks \n-Cash bar to enjoy extra sips and cocktails during the evening \nTickets go on sale and can be purchased on High Bank website\,  Wednesday\, July 2 at 11AM at http://highbankdistillery.com
URL:https://blendcandleco.com/event/sip-scents-high-bank-distillery-july-21st/
END:VEVENT
BEGIN:VEVENT
DTSTART;TZID=America/Halifax:20250717T190000
DTEND;TZID=America/Halifax:20250717T210000
DTSTAMP:20260421T215817
CREATED:20250616T134423Z
LAST-MODIFIED:20250630T190208Z
UID:1265-1752778800-1752786000@blendcandleco.com
SUMMARY:A Night of Scents & Sound: Perfume Making
DESCRIPTION:A Night of Scents + Sound Join us for a  self-care experience at Blend Candle Co where  you will create a personal fragrance and enjoy a relaxing south bath July 17th 7-9PM. \n\nKick off your experience with refreshing complimentary summer mock-tails— the perfect way to set the mood for a moment of creativity and self-care. Then\, dive into the art of scent as you craft your very own personalized perfume roll on using Blend Candle Co.’s gorgeous\, non-toxic + essential fragrance oils. \nYou’ll choose from our curated selection of scents from grounding florals to bright\, and energizing citrus notes. We will help you choose 2-3 complimentary fragrances that reflects your mood and vibe to personalize your custom blend. \nThen\, melt into stillness with a deeply relaxing sound bath. You’ll be bathed in the soothing tones of crystal and metal singing bowls\, chimes\, a gong\, and more. Sounds that are  designed to quiet your mind\, calm your nervous system\, and leave you feeling restored. \nThis is the perfect way to disconnect from the busyness of life\, and to treat yourself to an evening of creativity and self-care. Great for a ladies night out or even a gift! \n\n Thursday\, July 17th from 7-9pm (doors open at 6:30pm)\n$50 tickets  BUY TICKETS HERE! \nWhat is a Sound Bath? A Sound Bath is a deeply immersive\, full mind and body meditation experience. The session begins with each person lying down or sitting up\, relaxed and eyes closed. With intention\, Tracey plays sounds to invite gentle therapeutic and restorative processes in the mind and body. Sound is an anchor to help root and quiet the mind during the session. Crystal and metal bowls\, wind chimes\,  a gong\, and more. Sound baths can help shift your brain waves from the over-thinking loop to a calm\, quiet or even a dreamlike state. \nWhat are the benefits of sound baths? In a society that is over-come with stress\, sound baths provide many mental and physical benefits. These benefits can include: deep relaxation\, relief of stress & tension\, a calmer quieter mind\, spiritual connection\, an increase in emotional well-being & productivity\, and better sleep. \nWhat should I bring or wear? Please wear comfortable clothing as this is an evening of relaxation. You will be laying on the floor so please bring any and all personal items such as a yoga mat\, sleeping bag\, blanket socks\, or pillow to help you get into your comfort zone. An eye mask can help\, but it isn’t necessary. \nMore info: Tracey\, a former Diabetes Dietitian\, has spent the last decade immersing herself in consciousness\, meditation and energy healing. For the past three years\, her daily meditation practice has not only enriched her spiritual life\, but has totally reconditioned her brain and body’s response to stress. Through this powerful tool\, Tracey gained a balanced nervous system\, emotional stability\, and overall wellness. Her passion is to support women in their desire to relieve stress\, meditate\, and experience a calm mind & body for optimal well-being through the power of sound. \nTracey has completed the 200-hour Sonic Mastery System Sound Healing training course and is certified in Sound Therapy through the International Sound Therapy Association (ISTA). She is also certified in 1:1 on-the-body Vibrational Sound Therapy (VST) through the Vibrational Sound Association (VSA). She has a Bachelor’s Degree from The Ohio State University in Medical Dietetics.
URL:https://blendcandleco.com/event/%e2%9c%a8-a-night-of-scents-sound-%e2%9c%a8/
END:VEVENT
END:VCALENDAR