BEGIN:VCALENDAR
VERSION:2.0
PRODID:-//Blend Candle Co. - ECPv6.15.20//NONSGML v1.0//EN
CALSCALE:GREGORIAN
METHOD:PUBLISH
X-ORIGINAL-URL:https://blendcandleco.com
X-WR-CALDESC:Events for Blend Candle Co.
REFRESH-INTERVAL;VALUE=DURATION:PT1H
X-Robots-Tag:noindex
X-PUBLISHED-TTL:PT1H
BEGIN:VTIMEZONE
TZID:America/Halifax
BEGIN:DAYLIGHT
TZOFFSETFROM:-0400
TZOFFSETTO:-0300
TZNAME:ADT
DTSTART:20240310T060000
END:DAYLIGHT
BEGIN:STANDARD
TZOFFSETFROM:-0300
TZOFFSETTO:-0400
TZNAME:AST
DTSTART:20241103T050000
END:STANDARD
BEGIN:DAYLIGHT
TZOFFSETFROM:-0400
TZOFFSETTO:-0300
TZNAME:ADT
DTSTART:20250309T060000
END:DAYLIGHT
BEGIN:STANDARD
TZOFFSETFROM:-0300
TZOFFSETTO:-0400
TZNAME:AST
DTSTART:20251102T050000
END:STANDARD
BEGIN:DAYLIGHT
TZOFFSETFROM:-0400
TZOFFSETTO:-0300
TZNAME:ADT
DTSTART:20260308T060000
END:DAYLIGHT
BEGIN:STANDARD
TZOFFSETFROM:-0300
TZOFFSETTO:-0400
TZNAME:AST
DTSTART:20261101T050000
END:STANDARD
BEGIN:DAYLIGHT
TZOFFSETFROM:-0400
TZOFFSETTO:-0300
TZNAME:ADT
DTSTART:20270314T060000
END:DAYLIGHT
BEGIN:STANDARD
TZOFFSETFROM:-0300
TZOFFSETTO:-0400
TZNAME:AST
DTSTART:20271107T050000
END:STANDARD
END:VTIMEZONE
BEGIN:VEVENT
DTSTART;TZID=America/Halifax:20251123T163000
DTEND;TZID=America/Halifax:20251123T190000
DTSTAMP:20260421T113550
CREATED:20251031T015136Z
LAST-MODIFIED:20251031T152818Z
UID:1466-1763915400-1763924400@blendcandleco.com
SUMMARY:🌙 A Night of Scents + Sounds: Holiday Edition
DESCRIPTION:🌙 A Night of Scents + Sounds: Holiday Edition\nSunday\, November 23 | 4:30–7:00 PMat Blend Candle Co. \nOur fan-favorite event is back for the third time! \nJoin us for a peaceful evening of candle making and sound healing — the perfect way to ease into the holiday season. \nYou’ll begin the night by pouring your own custom candle\, blending your unique scent from our clean\, non-toxic ingredients. Afterward\, you’ll settle in for a deeply relaxing sound bath experience\, surrounded by candlelight and calm. \n✨ Complimentary tea + snacks will be served. \n🎟️ Tickets: $60 per person👉 Get your ticket by clicking here \nWhat to Bring:To make your sound bath as cozy as possible\, please bring: \n\n\nA mat or sleeping bag \n\n\nA pillow for your head \n\n\nA blanket (and maybe some cozy socks!) \n\n\nOptional: an eye mask or eye pillow for extra comfort \n\n\nWe recommend wearing comfortable\, relaxed clothing — this evening is all about unwinding and resetting. \nWe can’t wait to share this beautiful evening with you.💛 Denise & Tracey \nWho is Tracey? Tracey\, a former Diabetes Dietitian\, has spent the last decade immersing herself in consciousness\, meditation and energy healing. For the past three years\, her daily meditation practice has not only enriched her spiritual life\, but has totally reconditioned her brain and body’s response to stress. Through this powerful tool\, Tracey gained a balanced nervous system\, emotional stability\, and overall wellness. Her passion is to support women in their desire to relieve stress\, meditate\, and experience a calm mind & body for optimal well-being through the power of sound.\n\nTracey has completed the 200-hour Sonic Mastery System Sound Healing training course and is certified in Sound Therapy through the International Sound Therapy Association (ISTA). She is also certified in 1:1 on-the-body Vibrational Sound Therapy (VST) through the Vibrational Sound Association (VSA). She has a Bachelor’s Degree from The Ohio State University in Medical Dietetics. \n \n 
URL:https://blendcandleco.com/event/1466/
END:VEVENT
BEGIN:VEVENT
DTSTART;TZID=America/Halifax:20251203T180000
DTEND;TZID=America/Halifax:20251203T200000
DTSTAMP:20260421T113550
CREATED:20251108T035901Z
LAST-MODIFIED:20251110T172615Z
UID:1475-1764784800-1764792000@blendcandleco.com
SUMMARY:Holiday Magic:  Calligraphy by Candlelight
DESCRIPTION:Candle + Calligraphy Workshop\nWednesday\, December 3 | 6–8 PM \nJoin us for a cozy evening of creativity! Create  your own luxury  signature scented candle while learning the basics of modern calligraphy with The Lettering Lounge. You’ll design a festive acrylic tag that will shine and glow in the light of your candle’s flame — and can be reused around future candles\, too. It’s the perfect personalized touch for your holiday décor or a handmade gift. \nComplimentary wine will be served during the workshop\, and each guest will receive a take-home calligraphy workbook. \nOur candles are made with 100% soy and coconut wax and clean fragrances (free of paraffin\, phthalates\, and parabens). \nChoose your experience:• Create two 8 oz candles and one acrylic tag — $80• Create one 8 oz candle and one acrylic tag — $60 \n \nYour experience includes:• Step-by-step calligraphy instruction with The Lettering Lounge• Guided fragrance blending with Blend Candle Co• Calligraphy workbook to take home• Festive acrylic tag project• Custom luxury scented candle(s)• Complimentary wine \n🎟️ Tickets- CLICK HERE TO PURCHASE
URL:https://blendcandleco.com/event/holiday-magic-calligraphy-by-candlelight/
END:VEVENT
BEGIN:VEVENT
DTSTART;TZID=America/Halifax:20251207T120000
DTEND;TZID=America/Halifax:20251207T170000
DTSTAMP:20260421T113551
CREATED:20251108T040750Z
LAST-MODIFIED:20251108T040750Z
UID:1480-1765108800-1765126800@blendcandleco.com
SUMMARY:Holiday Bloom Bar Pop Up
DESCRIPTION:Holiday Bloom Bar Pop-Up\nSunday\, December 7 | 12–5 PM \nJoin us for a festive pop-up with SassaFRAZ Flowers! Build your own holiday bouquet featuring seasonal blooms and cheerful touches for $25 — greenery is complimentary. It’s the perfect way to capture the spirit of the season! \nWhile you’re here\, enjoy specials on creating your own candles\, sugar scrubs\, and perfumes at Blend Candle Co. \n🎟️ No ticket required — just stop in and celebrate the season with us!
URL:https://blendcandleco.com/event/holiday-bloom-bar-pop-up/
END:VEVENT
BEGIN:VEVENT
DTSTART;TZID=America/Halifax:20251210T183000
DTEND;TZID=America/Halifax:20251210T203000
DTSTAMP:20260421T113551
CREATED:20251108T040438Z
LAST-MODIFIED:20251111T194440Z
UID:1478-1765391400-1765398600@blendcandleco.com
SUMMARY:Flames & Firs Candlemaking Workshop - Dec 10
DESCRIPTION:Flames & Firs Workshop\nWednesday\, December 10 | 6:30–8:30 PM \nBack for its second year by popular demand! Join us for a fun and creative evening of holiday candle pouring and winter tree decorating at Blend Candle Co. This hands-on\, guided workshop is the perfect way to socialize\, unwind\, and get festive for the season. CHECK OUT OUR FB or IG to watch our event last year! \nYou’ll create a luxurious custom-scented candle using your choice of three fragrances from our 60+ scent collection. Then\, learn the art of designing your own flocked mini tree with Sassafraz Flowers\, featuring baby’s breath\, roses\, and seasonal touches. Your tree will be the perfect accent for your table or mantel. \nOur candles are made with 100% soy and coconut wax and clean fragrances (free of paraffin\, phthalates\, and parabens). \nComplimentary wine and snacks will be served during the workshop. \nYour experience includes: \n*Create a custom scented candle in your choice of 15oz vessel• Hands-on mini flocked tree design with Sassafraz Flowers- baby’s breath is the star of the show!  Embellish with roses\, florals\, berries\, or accents for a twist. \n• Use of seasonal florals\, roses\, festive touches\, and flocking materials to make it your own \n• Complimentary wine and snacks \nTicket Price: $80 \nDORA alcoholic drinks are welcome too if preferred. \n🎟️ Tickets HERE —  reserve your spot!
URL:https://blendcandleco.com/event/flames-firs-workshop/
END:VEVENT
BEGIN:VEVENT
DTSTART;TZID=America/Halifax:20251214T120000
DTEND;TZID=America/Halifax:20251214T170000
DTSTAMP:20260421T113551
CREATED:20251108T041025Z
LAST-MODIFIED:20251108T041025Z
UID:1482-1765713600-1765731600@blendcandleco.com
SUMMARY:Merry Mimosas + Holiday Bloom Bar Pop-Up
DESCRIPTION:Merry Mimosas + Holiday Bloom Bar Pop-Up\nSaturday\, December 14 | 12–5 PM \nJoin us for a festive afternoon at Blend Candle Co! Build your own holiday bouquet featuring seasonal flowers and cheerful touches for $25 — greenery is complimentary — at our pop-up with Sassafraz Flowers. \nEnjoy complimentary mimosas while you shop or create\, and take advantage of specials on candle making\, sugar scrubs\, and perfumes throughout the day. \n🎟️ No ticket required — just stop in and celebrate the season with us!
URL:https://blendcandleco.com/event/merry-mimosas-holiday-bloom-bar-pop-up/
END:VEVENT
BEGIN:VEVENT
DTSTART;TZID=America/Halifax:20260125T120000
DTEND;TZID=America/Halifax:20260125T170000
DTSTAMP:20260421T113551
CREATED:20260113T155310Z
LAST-MODIFIED:20260122T145927Z
UID:1518-1769342400-1769360400@blendcandleco.com
SUMMARY:Bouquets and Bubbles POP UP | Jan 24 & 25
DESCRIPTION:New Year\, New Blooms and Mimosas\n January 24 and  25 | 12–5 PM \nStart the new year by creating something new and making memories at Blend Candle Co. This Bloom Bar pop-up with Sassafraz Flowers is the perfect outing to gather with friends and celebrate fresh beginnings — or just pop in and make a bouquet! \nBuild your own seasonal bouquet for $25 — complimentary greenery included — and enjoy complimentary mimosas while you create\, shop\, and take advantage of New Year specials on candle making and perfumes throughout the day. And Sassafraz Flowers is on site to help arrange your perfect bouquet. \n🎟️ No ticket required — just stop in\, sip\, create\, and start the year in bloom.
URL:https://blendcandleco.com/event/new-year-new-blooms-mimosas-jan-25/
END:VEVENT
BEGIN:VEVENT
DTSTART;TZID=America/Halifax:20260204T170000
DTEND;TZID=America/Halifax:20260204T200000
DTSTAMP:20260421T113551
CREATED:20260113T195300Z
LAST-MODIFIED:20260120T152759Z
UID:1542-1770224400-1770235200@blendcandleco.com
SUMMARY:Galentine’s Adventure Crawl | Feb 4
DESCRIPTION:Uptown Galentine’s Adventure💖 \nWednesday\, February 4 | 5–8 PM | Uptown Westerville | $75 \nA night of dreamy vibes\, local favorites\, and friends who make everything better 💕✨Grab your crew and make it a night to remember with the best stops of Uptown! Your night out includes it all: \n• Good Vibes Winery – Start the night with TWO drink tickets\, sweet treats from Schneider’s Bakery\, and shop Hazel Rose Clothing Boutique pop up 🍷• Blend Candle Co. – Escape into a world of scent and creativity—blend your dream fragrance creating a custom\, clean burning  9oz candle that’s all yours 🕯️• Westerville Florist – Build your own bouquet and enjoy charcuterie 🌿 \nTicketed event — must register\, spots are limited. \nReserve your spot here
URL:https://blendcandleco.com/event/uptown-galentines-adventure%f0%9f%92%96-feb-4/
END:VEVENT
BEGIN:VEVENT
DTSTART;TZID=America/Halifax:20260208T120000
DTEND;TZID=America/Halifax:20260208T170000
DTSTAMP:20260421T113551
CREATED:20260113T160527Z
LAST-MODIFIED:20260206T132313Z
UID:1536-1770552000-1770570000@blendcandleco.com
SUMMARY:Galentine’s in Bloom + Bubbles | Feb 7 and 8
DESCRIPTION:Galentine’s in Bloom + Bubbles\nSaturday\, 2/7  11-2 and Sunday\, 2/8 | 12–5 PMPOP-UP EVENT \nCelebrate Galentine’s Day the Blend way. Grab your besties and join us for an afternoon of sipping\, creating\, shopping\, and making memories. \nWe’re hosting a special Bloom Bar Pop-Up with Sassafraz Flowers\, featuring a double bouquet bar\, candle making\, perfume specials\, and complimentary mimosas throughout the day. \nsimply pop in to create a bouquet\, or make a candle and more! \n\n🌸 Double Bouquet Bar 🌸\nChoose your vibe and build something beautiful: \nTimeless Classics Bouquet Bar• Choose 10 stems for $25• Complimentary greenery and professional arranging included \nTropical Blooms Bouquet Bar – Sunday only • Bold\, eye-catching tropical flowers including Monstera leaves\, Dendrobium orchids\, pink and white Anthurium\, red and pink ginger\, and orange oriental lilies• $45 per bouquet \nWhat to Expect\nSassafraz Flowers will be on site to help you design the perfect arrangement while you enjoy complimentary mimosas\, shop our curated studio collection\, and pour your own custom scented products throughout the day. \n📍 Blend Candle Co.
URL:https://blendcandleco.com/event/galentines-in-bloom-bubbles-feb-8/
END:VEVENT
BEGIN:VEVENT
DTSTART;TZID=America/Halifax:20260215T160000
DTEND;TZID=America/Halifax:20260215T193000
DTSTAMP:20260421T113551
CREATED:20260120T151955Z
LAST-MODIFIED:20260120T152702Z
UID:1554-1771171200-1771183800@blendcandleco.com
SUMMARY:Sip and Scents @ PO BOX 21 Speakeasy | Feb 15
DESCRIPTION:ON SALE NOW — We are setting the mood this Valentine’s! Escape for an evening at P.O. BOX XXI\, with an exclusive candle-making class presented by Blend Candle Co! 🥃🕯️ \nOn Sunday\, February 15th\, join @blendcandleco beneath High Bank Distillery’s historic post office location at 28 S. State St.\, for a hands-on candle-making workshop. \nCLASS ONE: 4-5:30pm \nCLASS TWO: 6-7:30pm \nWorkshop  ticket Includes:\n🥃 The blending of your very own signature fragrance from an array of premium fragrances and clean soy coconut wax\n🥃 Hand-pouring a luxurious\, custom-scented candle housed in a sleek\, reusable rocks glass — perfect for future cocktails\n🥃 A welcome glass of champagne to set the mood\n🥃 Light bites while you create and cash bar to enjoy craft cocktails \nTICKETS HERE \nPlease note: Blend Candle Co will be closing early on Sunday\, Feb 15th at 2pm for this offsite event
URL:https://blendcandleco.com/event/sip-and-scents-at-po-box-21-beneath-high-bank-distillery-2-15/
END:VEVENT
BEGIN:VEVENT
DTSTART;VALUE=DATE:20260228
DTEND;VALUE=DATE:20260301
DTSTAMP:20260421T113551
CREATED:20260121T203306Z
LAST-MODIFIED:20260127T183716Z
UID:1561-1772236800-1772323199@blendcandleco.com
SUMMARY:Candles and Crystals | Feb 28
DESCRIPTION:Candle Making + Crystals = The Perfect Vibe ✨ \nJoin us in Westerville for a magical collaboration between Blend Candle Co. and Rocks with Sass from 12-3pm on Saturday\, February 28th! Create your own custom candle scent and then let the Rocks with Sass team help you choose the perfect complimentary crystal pairing based on your intention. Your hand-poured candle will be finished with crystal chips layered on top—infusing your creation with energy and meaning. \nComplimentary Crystal chip options: \n\nAmethyst: Calm • Clarity • Spiritual Growth\nQuartz: Amplify • Clarity • Healing\nCitrine: Joy • Abundance • Confidence\nBlack Tourmaline: Protection • Grounding • Strength\nLabradorite: Intuition • Transformation • Magic\nMoss Agate: Growth • Balance • Renewal\nTiger’s Eye: Courage • Focus • Empowerment\nRose Quartz: Love • Compassion • Self-Care\nBlue Chalcedony: Peace • Communication • Harmony\nRed Jasper: Stability • Vitality • Motivation\n\nPlus\, shop their pop-up filled with larger stones and statement crystals. \nPop in or make a reservation under Reservations tab
URL:https://blendcandleco.com/event/collab-with-rocks-with-sass-feb-28/
END:VEVENT
BEGIN:VEVENT
DTSTART;VALUE=DATE:20260321
DTEND;VALUE=DATE:20260323
DTSTAMP:20260421T113551
CREATED:20260218T213354Z
LAST-MODIFIED:20260218T214149Z
UID:1577-1774051200-1774223999@blendcandleco.com
SUMMARY:Blooms & Bubbles  |   March 21 & 22
DESCRIPTION:🌸 Blooms & Bubbles 🌸\nA Bouquet Pop-Up Bar with Sassafraz Flowers\nJoin us for Blooms & Bubbles\, our monthly bouquet pop-up bar in partnership with the talented team at Sassafraz Flowers! \nStop in and create your own lovely bouquet for just $25. Each guest receives: \n\n\n🌷 10 beautiful stems \n\n\n🌿 Complimentary greenery \n\n\n🎀 Creative\, themed packaging (new theme each month) \n\n\n🥂 Complimentary mimosas for guests creating bouquets \n\n\nThe Sassafraz team will wrap and arrange alongside you\, so you leave with a bouquet you truly love! \n🌼 Upcoming Dates:\n\n\nMarch 21 & 22  |  12-5pm \n\n\nApril 18 & 19      |  12-5pm \n\nMay 16    |   12-5pm\n\nWhile you’re here\, make a candle — or simply pop in to create a bouquet. If you’re planning to stay and create custom fragrances and bouquets\, you can book your reservation to secure your spot. \nWe can’t wait to see you! 💐
URL:https://blendcandleco.com/event/blooms-bubbles-march-21-22/
END:VEVENT
BEGIN:VEVENT
DTSTART;TZID=America/Halifax:20260409T173000
DTEND;TZID=America/Halifax:20260409T200000
DTSTAMP:20260421T113551
CREATED:20260308T231015Z
LAST-MODIFIED:20260408T165433Z
UID:1595-1775755800-1775764800@blendcandleco.com
SUMMARY:SCENTS & SOUNDS | SOLD OUT!
DESCRIPTION:A Night of Scents + Sounds: Spring Edition 🌙\nThursday\, April 9 | 5:30–7:30 PMBlend Candle Co. \nStep into a relaxing spring evening designed to awaken your senses and calm your mind. \nDuring this unique experience\, you’ll create your own custom fragrance and then melt into a restorative sound bath\, surrounded by candlelight and soothing vibrations. \nPerfect for a self-care evening  or a peaceful reset for spring. \n🎟️ Tickets: $60 per personSpots are limited. \n\nWhat to Expect\n✨ Custom Fragrance BlendingCreate your own candle or perfume roll-on using clean\, non-toxic fragrance ingredients to design a scent that’s uniquely yours. \n✨ Candlelight Sound BathAfter pouring your fragrance\, settle in for a deeply relaxing sound healing session designed to calm the nervous system and promote total relaxation. \n✨ Sips + SnacksEnjoy complimentary light refreshments throughout the evening. \n\nWhat to Bring\nTo make the sound bath as comfortable as possible\, please bring: \n\n\nYoga mat or sleeping bag \n\n\nPillow \n\n\nBlanket \n\n\nCozy socks (optional) \n\n\nEye mask or eye pillow (optional) \n\n\nWear comfortable clothing so you can fully relax. \n\nMeet Your Sound Healing Guide\nTracey is a certified sound healing practitioner who helps women reduce stress and restore balance through meditation and vibrational sound therapy. \nFormerly a diabetes dietitian\, she holds a Bachelor’s Degree in Medical Dietetics from The Ohio State University. Her personal meditation practice and training in sound therapy have deeply shaped her approach to wellness and nervous system healing. \nTracey completed the 200-hour Sonic Mastery System Sound Healing training and is certified through the International Sound Therapy Association (ISTA) as well as the Vibrational Sound Association (VSA). \nHer mission is to help women experience calm minds\, balanced nervous systems\, and deeper well-being through the power of sound. \n\n💛 Hosted by Denise & Tracey \nReserve your spot and treat yourself to a beautiful evening of creativity\, calm\, and connection. \n🎟️ Reserve Your Ticket – Click here
URL:https://blendcandleco.com/event/%e2%9c%a8-pour-a-candle-relax-in-a-sound-bath-a-spring-evening-for-your-senses-april-9/
END:VEVENT
BEGIN:VEVENT
DTSTART;VALUE=DATE:20260418
DTEND;VALUE=DATE:20260420
DTSTAMP:20260421T113551
CREATED:20260218T213704Z
LAST-MODIFIED:20260331T162548Z
UID:1580-1776470400-1776643199@blendcandleco.com
SUMMARY:BLOOMS & BUBBLES
DESCRIPTION:🌸 Blooms & Bubbles 🌸\nA Bouquet Pop-Up Bar with Sassafraz Flowers\nJoin us for Blooms & Bubbles\, our monthly bouquet pop-up bar in partnership with the talented team at Sassafraz Flowers! \nStop in and create your own lovely bouquet for just $25. Each guest receives: \n\n\n🌷 10 beautiful stems \n\n\n🌿 Complimentary greenery \n\n\n🎀 Creative\, themed packaging (new theme each month) \n\n\n🥂 Complimentary mimosas for guests creating bouquets \n\n\nThe Sassafraz team will wrap and arrange alongside you\, so you leave with a bouquet you truly love! \n🌼 Upcoming Dates:\n\n\nApril 18 |  11-6pm \n\nMay 16    |   12-5pm\n\nWhile you’re here\, make a candle — or simply pop in to create a bouquet. If you’re planning to stay and create custom fragrances and bouquets\, you can book your reservation to secure your spot. Candle making ranges from $30-$60. \nWe can’t wait to see you! 💐
URL:https://blendcandleco.com/event/blooms-bubbles-april-18-19/
END:VEVENT
BEGIN:VEVENT
DTSTART;TZID=America/Halifax:20260426T160000
DTEND;TZID=America/Halifax:20260426T180000
DTSTAMP:20260421T113551
CREATED:20260322T132349Z
LAST-MODIFIED:20260329T224120Z
UID:1605-1777219200-1777226400@blendcandleco.com
SUMMARY:PLANT & POUR
DESCRIPTION:Celebrate Earth Day Week with a Creative\, Sustainable Workshop with your favorites in Uptown Westerville! 🌿 \nJoin us for a special collaborative experience this Earth Day week as we partner with our neighbors at Over Grown to bring you a hands-on\, eco-friendly workshop designed to inspire your creativity and connect you with nature. \nThis unique two-part experience will engage your senses and help you bring more greenery into your space: \n✨ Part One: Custom Candle Pouring at Blend  | 4pm\nBegin your journey at Blend\, where you’ll craft your own signature candle. Explore a variety of scents to create a fragrance that’s uniquely yours\, then pour it into a beautiful vessel you’ll love displaying at home.\n\n🌱 Part Two: Planting at Over Grown  | 5pm\nNext\, head over to Overgrown to pot your very own heart leaf philodendron in a stylish planter. You’ll learn the essentials of sustainable plant care\, along with expert tips to help your plant thrive. Plus\, you’ll receive a care card to guide you long after the workshop ends.\nCelebrate Earth Day by creating two beautiful\, lasting pieces—both made by you! \n🎟 Tickets: $50  REGISTER HERE! \nfollow us on FB and IG  @blendcandleco \n  \n  \nBlend Candle Co   |   16 E Main St       |      Westerville Oh 43081 \nOver Grown           |   10 N State St      |     Westerville Oh 43081
URL:https://blendcandleco.com/event/over-grown-and-blend-candle-co-spring-collab/
END:VEVENT
BEGIN:VEVENT
DTSTART;VALUE=DATE:20260516
DTEND;VALUE=DATE:20260517
DTSTAMP:20260421T113551
CREATED:20260218T214751Z
LAST-MODIFIED:20260331T162403Z
UID:1582-1778889600-1778975999@blendcandleco.com
SUMMARY:BLOOMS & BUBBLES
DESCRIPTION:🌸 Blooms & Bubbles 🌸\nA Bouquet Pop-Up Bar with Sassafraz Flowers\nJoin us for Blooms & Bubbles\, our monthly bouquet pop-up bar in partnership with the talented team at Sassafraz Flowers! \nStop in and create your own lovely bouquet for just $25. Each guest receives: \n\n\n🌷 10 beautiful stems \n\n\n🌿 Complimentary greenery \n\n\n🎀 Creative\, themed packaging (new theme each month) \n\n\n🥂 Complimentary mimosas for guests creating bouquets \n\n\nThe Sassafraz team will wrap and arrange alongside you\, so you leave with a bouquet you truly love! \n🌼 Upcoming Dates:\n\nMay 16    |   12-5pm\n\nWhile you’re here\, make a candle — or simply pop in to create a bouquet. If you’re planning to stay and create custom fragrances and bouquets\, you can book your reservation to secure your spot. Candle making pricing ranges $30-$60. \nWe can’t wait to see you! 💐
URL:https://blendcandleco.com/event/blooms-bubbles-may-16/
END:VEVENT
BEGIN:VEVENT
DTSTART;VALUE=DATE:20260517
DTEND;VALUE=DATE:20260518
DTSTAMP:20260421T113551
CREATED:20260323T142845Z
LAST-MODIFIED:20260331T162450Z
UID:1584-1778976000-1779062399@blendcandleco.com
SUMMARY:UPTOWN DAY OUT: SPRING EXPERIENCE
DESCRIPTION:✨ The Uptown Experience ✨\nBlend Candle Co. × Good Vibes Winery × Westerville Florist\nJoin Denise\, founder of Blend Candle Co.\, Tonjia from Good Vibes Winery\, and Candice at Westerville Florist for The Uptown Experience — a fan favorite celebration of creativity\, sips\, and strolls through Uptown! \nThis fun event begins by choosing your reservation time and picking your starting location. From there\, enjoy a lively Uptown adventure with: \n\n\n🍷 Two glasses of wine at Good Vibes Winery \n\n\n💐 Build your own Spring Flower Bouquet at Westerville Florist \n\n\n🕯️ Create a custom scented candle at Blend Candle Co. \n\n\n🥪 Complimentary lite bites at Good Vibes \n\n\n🥤 DORA drinks welcome as you stroll Uptown \n\n\nGrab your ladies and plan the perfect post–Mother’s Day outing! This is a Ticketed event – $78  — don’t miss this unforgettable day out in Uptown Westerville!  REGISTER HERE! \nQuestions? Email Denise at hello@blendcandleco.com \nFor updates\, follow us on Instagram\, Facebook @blendcandleco \n\nWhat is DORA?\nDORA (Designated Outdoor Refreshment Area) allows guests to purchase alcoholic beverages from participating establishments and enjoy them within approved Uptown boundaries. \nClick here for more details on participating  DORA establishments and how it works!
URL:https://blendcandleco.com/event/ladies-day-out-the-ultimate-uptown-experience-returns/
END:VEVENT
END:VCALENDAR